BEGIN:VCALENDAR
VERSION:2.0
PRODID:-//rasa.io - ECPv6.15.20//NONSGML v1.0//EN
CALSCALE:GREGORIAN
METHOD:PUBLISH
X-ORIGINAL-URL:https://rasa.io
X-WR-CALDESC:Events for rasa.io
REFRESH-INTERVAL;VALUE=DURATION:PT1H
X-Robots-Tag:noindex
X-PUBLISHED-TTL:PT1H
BEGIN:VTIMEZONE
TZID:America/Chicago
BEGIN:DAYLIGHT
TZOFFSETFROM:-0600
TZOFFSETTO:-0500
TZNAME:CDT
DTSTART:20240310T080000
END:DAYLIGHT
BEGIN:STANDARD
TZOFFSETFROM:-0500
TZOFFSETTO:-0600
TZNAME:CST
DTSTART:20241103T070000
END:STANDARD
BEGIN:DAYLIGHT
TZOFFSETFROM:-0600
TZOFFSETTO:-0500
TZNAME:CDT
DTSTART:20250309T080000
END:DAYLIGHT
BEGIN:STANDARD
TZOFFSETFROM:-0500
TZOFFSETTO:-0600
TZNAME:CST
DTSTART:20251102T070000
END:STANDARD
BEGIN:DAYLIGHT
TZOFFSETFROM:-0600
TZOFFSETTO:-0500
TZNAME:CDT
DTSTART:20260308T080000
END:DAYLIGHT
BEGIN:STANDARD
TZOFFSETFROM:-0500
TZOFFSETTO:-0600
TZNAME:CST
DTSTART:20261101T070000
END:STANDARD
END:VTIMEZONE
BEGIN:VEVENT
DTSTART;TZID=America/Chicago:20250326T120000
DTEND;TZID=America/Chicago:20250326T130000
DTSTAMP:20260422T232718
CREATED:20250121T172256Z
LAST-MODIFIED:20250121T173649Z
UID:20822-1742990400-1742994000@rasa.io
SUMMARY:Level Up Your Newsletter Marketing
DESCRIPTION:Capturing your members’ attention in a crowded inbox has never been more challenging—or more critical. This webinar will show you how to create newsletters that stand out and engage. Discover AI-powered tools and strategies that streamline production\, reducing the time and effort it takes to craft compelling emails. Learn how to leverage data-driven personalization techniques to deliver content tailored to each member’s unique interests. Gain the insights and tools you need to transform your newsletter into a vital component of your digital strategy. \nRegister now!
URL:https://rasa.io/event/level-up-your-newsletter-marketing/
CATEGORIES:Webinar
ATTACH;FMTTYPE=image/png:https://rasa.io/wp-content/uploads/2024/08/ust_events_2.png
END:VEVENT
END:VCALENDAR