BEGIN:VCALENDAR
VERSION:2.0
PRODID:-//rasa.io - ECPv6.15.20//NONSGML v1.0//EN
CALSCALE:GREGORIAN
METHOD:PUBLISH
X-ORIGINAL-URL:https://rasa.io
X-WR-CALDESC:Events for rasa.io
REFRESH-INTERVAL;VALUE=DURATION:PT1H
X-Robots-Tag:noindex
X-PUBLISHED-TTL:PT1H
BEGIN:VTIMEZONE
TZID:America/Chicago
BEGIN:DAYLIGHT
TZOFFSETFROM:-0600
TZOFFSETTO:-0500
TZNAME:CDT
DTSTART:20240310T080000
END:DAYLIGHT
BEGIN:STANDARD
TZOFFSETFROM:-0500
TZOFFSETTO:-0600
TZNAME:CST
DTSTART:20241103T070000
END:STANDARD
BEGIN:DAYLIGHT
TZOFFSETFROM:-0600
TZOFFSETTO:-0500
TZNAME:CDT
DTSTART:20250309T080000
END:DAYLIGHT
BEGIN:STANDARD
TZOFFSETFROM:-0500
TZOFFSETTO:-0600
TZNAME:CST
DTSTART:20251102T070000
END:STANDARD
BEGIN:DAYLIGHT
TZOFFSETFROM:-0600
TZOFFSETTO:-0500
TZNAME:CDT
DTSTART:20260308T080000
END:DAYLIGHT
BEGIN:STANDARD
TZOFFSETFROM:-0500
TZOFFSETTO:-0600
TZNAME:CST
DTSTART:20261101T070000
END:STANDARD
END:VTIMEZONE
BEGIN:VEVENT
DTSTART;TZID=America/Chicago:20250410T130000
DTEND;TZID=America/Chicago:20250410T140000
DTSTAMP:20260425T123615
CREATED:20250403T150618Z
LAST-MODIFIED:20250403T150618Z
UID:21187-1744290000-1744293600@rasa.io
SUMMARY:Special Client Preview: rasa.io Campaigns
DESCRIPTION:Join us for a special clients-only preview webinar this April to explore rasa.io Campaigns—a new tool that turns your existing engagement data into personalized outreach that actually drives action. \nRegister now.
URL:https://rasa.io/event/special-client-preview-rasa-io-campaigns/
ATTACH;FMTTYPE=image/png:https://rasa.io/wp-content/uploads/2024/08/rasa.io_gradient_waiting_room.png
END:VEVENT
END:VCALENDAR