BEGIN:VCALENDAR
VERSION:2.0
PRODID:-//rasa.io - ECPv6.15.20//NONSGML v1.0//EN
CALSCALE:GREGORIAN
METHOD:PUBLISH
X-ORIGINAL-URL:https://rasa.io
X-WR-CALDESC:Events for rasa.io
REFRESH-INTERVAL;VALUE=DURATION:PT1H
X-Robots-Tag:noindex
X-PUBLISHED-TTL:PT1H
BEGIN:VTIMEZONE
TZID:America/Chicago
BEGIN:DAYLIGHT
TZOFFSETFROM:-0600
TZOFFSETTO:-0500
TZNAME:CDT
DTSTART:20240310T080000
END:DAYLIGHT
BEGIN:STANDARD
TZOFFSETFROM:-0500
TZOFFSETTO:-0600
TZNAME:CST
DTSTART:20241103T070000
END:STANDARD
BEGIN:DAYLIGHT
TZOFFSETFROM:-0600
TZOFFSETTO:-0500
TZNAME:CDT
DTSTART:20250309T080000
END:DAYLIGHT
BEGIN:STANDARD
TZOFFSETFROM:-0500
TZOFFSETTO:-0600
TZNAME:CST
DTSTART:20251102T070000
END:STANDARD
BEGIN:DAYLIGHT
TZOFFSETFROM:-0600
TZOFFSETTO:-0500
TZNAME:CDT
DTSTART:20260308T080000
END:DAYLIGHT
BEGIN:STANDARD
TZOFFSETFROM:-0500
TZOFFSETTO:-0600
TZNAME:CST
DTSTART:20261101T070000
END:STANDARD
END:VTIMEZONE
BEGIN:VEVENT
DTSTART;TZID=America/Chicago:20250821T120000
DTEND;TZID=America/Chicago:20250821T130000
DTSTAMP:20260422T232156
CREATED:20250717T181814Z
LAST-MODIFIED:20250717T181814Z
UID:21287-1755777600-1755781200@rasa.io
SUMMARY:From Batch-and-Blast to 1:1 Messaging
DESCRIPTION:Email marketing is evolving—and your strategy should too. In this webinar\, we’ll show you how AI is reshaping the way marketers build\, send\, and optimize campaigns. No more generic blasts. You’ll learn how to deliver personalized\, 1:1 messaging that drives higher opens\, clicks\, and conversions—without adding manual work. \nRegister now!
URL:https://rasa.io/event/from-batch-and-blast-to-11-messaging/
CATEGORIES:Webinar
ATTACH;FMTTYPE=image/png:https://rasa.io/wp-content/uploads/2025/07/ama.png
END:VEVENT
END:VCALENDAR