BEGIN:VCALENDAR
VERSION:2.0
PRODID:-//rasa.io - ECPv6.15.20//NONSGML v1.0//EN
CALSCALE:GREGORIAN
METHOD:PUBLISH
X-WR-CALNAME:rasa.io
X-ORIGINAL-URL:https://rasa.io
X-WR-CALDESC:Events for rasa.io
REFRESH-INTERVAL;VALUE=DURATION:PT1H
X-Robots-Tag:noindex
X-PUBLISHED-TTL:PT1H
BEGIN:VTIMEZONE
TZID:America/Chicago
BEGIN:DAYLIGHT
TZOFFSETFROM:-0600
TZOFFSETTO:-0500
TZNAME:CDT
DTSTART:20230312T080000
END:DAYLIGHT
BEGIN:STANDARD
TZOFFSETFROM:-0500
TZOFFSETTO:-0600
TZNAME:CST
DTSTART:20231105T070000
END:STANDARD
BEGIN:DAYLIGHT
TZOFFSETFROM:-0600
TZOFFSETTO:-0500
TZNAME:CDT
DTSTART:20240310T080000
END:DAYLIGHT
BEGIN:STANDARD
TZOFFSETFROM:-0500
TZOFFSETTO:-0600
TZNAME:CST
DTSTART:20241103T070000
END:STANDARD
BEGIN:DAYLIGHT
TZOFFSETFROM:-0600
TZOFFSETTO:-0500
TZNAME:CDT
DTSTART:20250309T080000
END:DAYLIGHT
BEGIN:STANDARD
TZOFFSETFROM:-0500
TZOFFSETTO:-0600
TZNAME:CST
DTSTART:20251102T070000
END:STANDARD
END:VTIMEZONE
BEGIN:VEVENT
DTSTART;TZID=America/Chicago:20241204T120000
DTEND;TZID=America/Chicago:20241204T130000
DTSTAMP:20260422T075933
CREATED:20241105T212105Z
LAST-MODIFIED:20241202T043252Z
UID:20512-1733313600-1733317200@rasa.io
SUMMARY:Transforming Member Experiences With AI Marketing
DESCRIPTION:Forward-thinking leaders in charge of digital innovation can benefit from this session\, whether they’re new to AI or looking to expand their existing expertise in unlocking AI’s potential for marketing. The workshop introduces a curated selection of intuitive AI tools developed for modern marketing challenges\, designed to enhance effectiveness in marketing\, advertising\, and communications across diverse audiences and platforms \nRegister now!
URL:https://rasa.io/event/transforming-member-experiences-with-ai-marketing/
CATEGORIES:Webinar
ATTACH;FMTTYPE=image/png:https://rasa.io/wp-content/uploads/2024/08/ust_events_2.png
END:VEVENT
BEGIN:VEVENT
DTSTART;TZID=America/Chicago:20241205T123000
DTEND;TZID=America/Chicago:20241205T133000
DTSTAMP:20260422T075933
CREATED:20241120T023312Z
LAST-MODIFIED:20241120T023312Z
UID:20654-1733401800-1733405400@rasa.io
SUMMARY:AI Marketing Essentials for Membership Growth & Engagement
DESCRIPTION:Are you ready to implement AI in your membership marketing but need a clear path forward? This session will show you proven AI marketing techniques to grow your organization. Come and learn where AI fits into your marketing strategy\, which Marketing AI tools work best for membership organizations\, and how to start small and start implementing AI tools from day one! \nRegister now!
URL:https://rasa.io/event/ai-marketing-essentials-for-membership-growth-engagement/
CATEGORIES:Webinar
ATTACH;FMTTYPE=image/png:https://rasa.io/wp-content/uploads/2024/11/fsae_events.png
END:VEVENT
BEGIN:VEVENT
DTSTART;TZID=America/Chicago:20241210T120000
DTEND;TZID=America/Chicago:20241210T130000
DTSTAMP:20260422T075933
CREATED:20241202T055221Z
LAST-MODIFIED:20241202T055221Z
UID:20707-1733832000-1733835600@rasa.io
SUMMARY:AI-Powered Newsletters: Winning the Inbox Battle
DESCRIPTION:Emails demand time. Each week\, you are pressured to fill the space with content your readers want. A typical newsletter often leaves subscribers cold and fails to match their interests. AI changes this equation. Learn to build newsletters that speak to each subscriber while reducing your workload from days to hours. Join us to learn how AI makes better newsletters with less work and drives results. \nRegister now.
URL:https://rasa.io/event/ai-powered-newsletters-winning-the-inbox-battle/
ATTACH;FMTTYPE=image/png:https://rasa.io/wp-content/uploads/2024/08/rasa.io_gradient_waiting_room.png
END:VEVENT
BEGIN:VEVENT
DTSTART;TZID=America/Chicago:20241211T123000
DTEND;TZID=America/Chicago:20241211T133000
DTSTAMP:20260422T075933
CREATED:20241120T023941Z
LAST-MODIFIED:20241120T023941Z
UID:20658-1733920200-1733923800@rasa.io
SUMMARY:AI Marketing for Associations
DESCRIPTION:Looking to bring AI into your association’s marketing but unsure where to start? Join this session to learn AI marketing techniques and find practical steps you’ll immediately implement. Why attend? See how other associations move beyond AI theory to create real member impact through targeted marketing strategies. \nRegister now!
URL:https://rasa.io/event/ai-marketing-for-associations/
CATEGORIES:Webinar
ATTACH;FMTTYPE=image/png:https://rasa.io/wp-content/uploads/2024/11/arksae_events.png
END:VEVENT
END:VCALENDAR