BEGIN:VCALENDAR
VERSION:2.0
PRODID:-//rasa.io - ECPv6.15.20//NONSGML v1.0//EN
CALSCALE:GREGORIAN
METHOD:PUBLISH
X-ORIGINAL-URL:https://rasa.io
X-WR-CALDESC:Events for rasa.io
REFRESH-INTERVAL;VALUE=DURATION:PT1H
X-Robots-Tag:noindex
X-PUBLISHED-TTL:PT1H
BEGIN:VTIMEZONE
TZID:America/Chicago
BEGIN:DAYLIGHT
TZOFFSETFROM:-0600
TZOFFSETTO:-0500
TZNAME:CDT
DTSTART:20240310T080000
END:DAYLIGHT
BEGIN:STANDARD
TZOFFSETFROM:-0500
TZOFFSETTO:-0600
TZNAME:CST
DTSTART:20241103T070000
END:STANDARD
BEGIN:DAYLIGHT
TZOFFSETFROM:-0600
TZOFFSETTO:-0500
TZNAME:CDT
DTSTART:20250309T080000
END:DAYLIGHT
BEGIN:STANDARD
TZOFFSETFROM:-0500
TZOFFSETTO:-0600
TZNAME:CST
DTSTART:20251102T070000
END:STANDARD
BEGIN:DAYLIGHT
TZOFFSETFROM:-0600
TZOFFSETTO:-0500
TZNAME:CDT
DTSTART:20260308T080000
END:DAYLIGHT
BEGIN:STANDARD
TZOFFSETFROM:-0500
TZOFFSETTO:-0600
TZNAME:CST
DTSTART:20261101T070000
END:STANDARD
END:VTIMEZONE
BEGIN:VEVENT
DTSTART;TZID=America/Chicago:20250220T120000
DTEND;TZID=America/Chicago:20250220T130000
DTSTAMP:20260422T131055
CREATED:20250121T171949Z
LAST-MODIFIED:20250121T172024Z
UID:20821-1740052800-1740056400@rasa.io
SUMMARY:AI Tools To Level Up Your Membership Marketing
DESCRIPTION:Are you a leader spearheading digital innovation in your organization? Whether you’re just beginning your journey into AI or seeking to deepen your expertise\, this webinar is designed to help you unlock the transformative power of AI in marketing. Explore a carefully selected suite of intuitive AI tools tailored to tackle the unique challenges of modern marketing. Discover how these cutting-edge solutions can revolutionize your marketing\, advertising\, and communication strategies\, enabling you to connect effectively with diverse audiences across multiple platforms. \nRegister now!
URL:https://rasa.io/event/ai-tools-to-level-up-your-membership-marketing/
CATEGORIES:Webinar
ATTACH;FMTTYPE=image/png:https://rasa.io/wp-content/uploads/2024/08/ust_events_2.png
END:VEVENT
BEGIN:VEVENT
DTSTART;TZID=America/Chicago:20250227T130000
DTEND;TZID=America/Chicago:20250227T140000
DTSTAMP:20260422T131055
CREATED:20250121T172552Z
LAST-MODIFIED:20250121T172552Z
UID:20823-1740661200-1740664800@rasa.io
SUMMARY:Transforming Your Newsletters with AI
DESCRIPTION:Are your email newsletters falling short of delivering the returns you need? With the right approach\, they can become powerful drivers of revenue and engagement. Discover the strategies that will help you increase retention\, reduce churn\, and turn your newsletters into a cornerstone of your success. Don’t miss the opportunity to unlock the full potential of your email campaigns. \nRegister now.
URL:https://rasa.io/event/transforming-your-newsletters-with-ai/
ATTACH;FMTTYPE=image/png:https://rasa.io/wp-content/uploads/2024/08/rasa.io_gradient_waiting_room.png
END:VEVENT
END:VCALENDAR